BEGIN:VCALENDAR
VERSION:2.0
CALSCALE:GREGORIAN
PRODID:adamgibbons/ics
METHOD:PUBLISH
X-PUBLISHED-TTL:PT1H
BEGIN:VEVENT
UID:1024@akce.nolog.cz
SUMMARY:Brunch!
DTSTAMP:20260420T162341Z
DTSTART:20260426T100000Z
DTEND:20260426T130000Z
DESCRIPTION:Brunch - all vegan - English breakfast - coffee - zaplať kolik 
	můžeš - cash only\n- fck nazis 🖤
URL:https://akce.nolog.cz/event/brunch-2
GEO:50.1038024;14.4435507
LOCATION:Autonomní centrum 254 - Argentinská 18\, Praha 7 Holešovice
STATUS:CONFIRMED
CATEGORIES:jídlo,Praha
X-ALT-DESC;FMTTYPE=text/html:<p>Brunch - all vegan - English breakfast - co
	ffee - zaplať kolik můžeš - cash only - fck nazis 🖤</p>
BEGIN:VALARM
ACTION:DISPLAY
DESCRIPTION:Brunch!
TRIGGER:-PT1H
END:VALARM
END:VEVENT
END:VCALENDAR
