BEGIN:VCALENDAR
VERSION:2.0
CALSCALE:GREGORIAN
PRODID:adamgibbons/ics
METHOD:PUBLISH
X-PUBLISHED-TTL:PT1H
BEGIN:VEVENT
UID:1022@akce.nolog.cz
SUMMARY:Dekospot
DTSTAMP:20260421T004714Z
DTSTART:20260426T150000Z
DTEND:20260426T195000Z
DESCRIPTION:Pozor\, dnes výjimečně až od 17:00 a v AC254\n\nChceš si nají
	t kámošstvo\, pokecat o aktivismu\, navázat kontakty nebo\nprostě jen 
	pofelit? Hledáš komunitu a safe space? Tak to je Dekospot místo\npro te
	be! \n\nKolektiv Dekonstrukce (my) se totiž ujímá nedělních otvírač
	ek na\nTrhlině. Scházíme se pravidelně každou neděli. Budeme se na tebe
	 těšit!\n\nAle tentokrát máme pár pravidel\, které bude potřeba res
	pektovat…\n\n1. Chovejte se k sobě i prostoru s respektem\, neakceptujeme
	 žádnou formu\nnenávistného projevu (ať už je to kvírfobie\, rasism
	us\, sexismus\, xenofobie\natd.)\n\n2. Pokud kouříš\, prosím odstup tr
	ošku dál od vchodu k Trhlině\, je to\nnepříjemné sousedstvu.\n\n3. P
	okud chceš pít alkohol\, tak můžeš v rozumné míře (žádný tvrdý
	\nalkohol)\, ale alkoholické nápoje nebudou v prostoru k dispozici \n\n4
	. Pokud si bereš nějaké nealko z lednice\, zanech prosím příspěvek\
	nTrhlině\n\n5. Žádné fotky a obzvlášť účastnictva
URL:https://akce.nolog.cz/event/dekospot-22
GEO:50.1038024;14.4435507
LOCATION:Autonomní centrum 254 - Argentinská 18\, Praha 7 Holešovice
STATUS:CONFIRMED
CATEGORIES:dekonstrukce,Infoshop,Praha,queer
X-ALT-DESC;FMTTYPE=text/html:<p><strong>Pozor, dnes výjimečně až od 17:00 a
	 v AC254</strong></p><p>Chceš si najít kámošstvo, pokecat o aktivismu,
	 navázat kontakty nebo prostě jen pofelit? Hledáš komunitu a safe spac
	e? Tak to je Dekospot místo pro tebe!&nbsp;<br><br>Kolektiv Dekonstrukce 
	(my) se totiž ujímá nedělních otvíraček na <s>Trhlině</s>. Scházím
	e se pravidelně každou neděli. Budeme se na tebe těšit!<br><br>Ale ten
	tokrát máme pár pravidel, které bude potřeba respektovat…<br><br>1. C
	hovejte se k sobě i prostoru s respektem, neakceptujeme žádnou formu ne
	návistného projevu (ať už je to kvírfobie, rasismus, sexismus, xenofo
	bie atd.)<br><br>2. Pokud kouříš, prosím odstup trošku dál od vchodu
	 k <s>Trhlině</s>, je to nepříjemné sousedstvu.<br><br>3. Pokud chceš
	 pít alkohol, tak můžeš v rozumné míře (žádný tvrdý alkohol), a
	le alkoholické nápoje nebudou v prostoru k dispozici&nbsp;<br><br>4. Pok
	ud si bereš nějaké nealko z lednice, zanech prosím příspěvek <s>Trh
	lině</s><br><br>5. Žádné fotky a obzvlášť účastnictva</p>
BEGIN:VALARM
ACTION:DISPLAY
DESCRIPTION:Dekospot
TRIGGER:-PT1H
END:VALARM
END:VEVENT
END:VCALENDAR
