BEGIN:VCALENDAR
VERSION:2.0
CALSCALE:GREGORIAN
PRODID:adamgibbons/ics
METHOD:PUBLISH
X-PUBLISHED-TTL:PT1H
BEGIN:VEVENT
UID:1032@akce.nolog.cz
SUMMARY:Dramachine (GR) + Nadnárodní obrození
DTSTAMP:20260423T125612Z
DTSTART:20260522T170000Z
DTEND:20260522T200000Z
DESCRIPTION:DRAMACHINE (Atény\, GR)\n\nAténske synthpunkové darkpop trio. J
	ejich zvuk je koláží syrové analogové\nelektroniky\, rychlých beatů\, uhra
	nčivých návykových melodií a textů\, které ničí\núzkost\, zoufalství a dne
	šní apokalypsu. Písně plavou po hranici mezi melancholií\na mánií a živá v
	ystoupení jsou souzvukem napětí a uvolnění: naléhavá\, teatrální\,\nnespou
	taná. Hudba\, popisovaná jako „drsná\, bezohledně punková s trochou synth\
	npopu“\, kterou vám přináší trojice řeckých smrtelníků\, kteří se snaží př
	ežít ve\nsvětě netopýrů požírajících hady\, bývalých přítelů\, extrémního 
	počasí\, kultu\nsebezdokonalování\, a nízkých mezd.\n\nhttps://dramachine.
	bandcamp.com/ [https://dramachine.bandcamp.com/] \n\n\n\nNADNÁRODNÍ OBROZE
	NÍ (Praha\, CZ)\n\nDru-tě-va Enterprise si vám v zastoupení dovoluje předs
	tavit vlastenecký\nkolektiv bez státní příslušnosti Nadnárodní obrození. P
	ři návštěvě koncertu lze\nuplatnit slevu na multisport kartu\, případně st
	ravenky. Čeká vás upřímná rodinná\nkorporátní atmosféra exportující tradič
	ní české pokrytectví. Kromě sady hrnců si\nodnesete také možnost odkoupení
	 dluhopisů i know-how jak hrát bez bubeníka.\nKolektiv efektivně alokoval 
	své zdroje\, aby Čechům přinesl kvalitní a dostupný\nvýrobek z tuzemské pr
	odukce. Management společnosti je tak napřed\, že i když\npřijdete včas\, 
	tak ho nestihnete. V případě potřeby pořízení audiovizuálního\nzáznamu je 
	nutné si vyžádat souhlas v následujícím znění: “Tak si mě vyfoť\, ty\nmrdk
	o!”\n\nAutorka fotky: Marika Mazáková\n\nhttps://nadnarodniobrozeni.bandca
	mp.com/album/f-l-vztek\n[https://nadnarodniobrozeni.bandcamp.com/album/f-l
	-vztek] \n\n\nVstup 200-400\n\n\n
URL:https://akce.nolog.cz/event/dramachine-gr-nadnarodni-obrozeni
GEO:50.0838209;14.4467549
LOCATION:Punctum - Krásovka - Krásova 803/27\, Praha 3-Žižkov
STATUS:CONFIRMED
CATEGORIES:hudba,Praha
X-ALT-DESC;FMTTYPE=text/html:<p>DRAMACHINE (Atény, GR)</p><p>Aténske synthp
	unkové darkpop trio. Jejich zvuk je koláží syrové analogové elektroniky, r
	ychlých beatů, uhrančivých návykových melodií a textů, které ničí úzkost, 
	zoufalství a dnešní apokalypsu. Písně plavou po hranici mezi melancholií a
	 mánií a živá vystoupení jsou souzvukem napětí a uvolnění: naléhavá, teatr
	ální, nespoutaná. Hudba, popisovaná jako „drsná, bezohledně punková s troc
	hou synth popu“, kterou vám přináší trojice řeckých smrtelníků, kteří se s
	naží přežít ve světě netopýrů požírajících hady, bývalých přítelů, extrémn
	ího počasí, kultu sebezdokonalování, a nízkých mezd.</p><p><a target="_bla
	nk" href="https://dramachine.bandcamp.com/"><u>https://dramachine.bandcamp
	.com/</u></a>&nbsp;</p><p></p><p>NADNÁRODNÍ OBROZENÍ (Praha, CZ)</p><p>Dru
	-tě-va Enterprise si vám v zastoupení dovoluje představit vlastenecký kole
	ktiv bez státní příslušnosti Nadnárodní obrození. Při návštěvě koncertu lz
	e uplatnit slevu na multisport kartu, případně stravenky. Čeká vás upřímná
	 rodinná korporátní atmosféra exportující tradiční české pokrytectví. Krom
	ě sady hrnců si odnesete také možnost odkoupení dluhopisů i know-how jak h
	rát bez bubeníka. Kolektiv efektivně alokoval své zdroje, aby Čechům přine
	sl kvalitní a dostupný výrobek z tuzemské produkce. Management společnosti
	 je tak napřed, že i když přijdete včas, tak ho nestihnete. V případě potř
	eby pořízení audiovizuálního záznamu je nutné si vyžádat souhlas v následu
	jícím znění: “Tak si mě vyfoť, ty mrdko!”</p><p>Autorka fotky: Marika Mazá
	ková</p><p><a target="_blank" href="https://nadnarodniobrozeni.bandcamp.co
	m/album/f-l-vztek"><u>https://nadnarodniobrozeni.bandcamp.com/album/f-l-vz
	tek</u></a>&nbsp;<br></p><p>Vstup 200-400</p><p><br></p>
BEGIN:VALARM
ACTION:DISPLAY
DESCRIPTION:Dramachine (GR) + Nadnárodní obrození
TRIGGER:-PT1H
END:VALARM
END:VEVENT
END:VCALENDAR
