BEGIN:VCALENDAR
VERSION:2.0
CALSCALE:GREGORIAN
PRODID:adamgibbons/ics
METHOD:PUBLISH
X-PUBLISHED-TTL:PT1H
BEGIN:VEVENT
UID:1029@akce.nolog.cz
SUMMARY:Plusko+ pofely
DTSTAMP:20260420T232018Z
DTSTART:20260427T163000Z
DTEND:20260427T193000Z
DESCRIPTION:Plusko pofely\, každotýdenní queer setkání. Budujeme revoluci z
	espoda - proto se\npřesouváme do Třech ocásků!! přijďte taky podpořit nejl
	epší podnik v Brně\, vemte\nkámošstvo a přidejte se k felení a kvíření 😋💅 
	těšíme se! xoxo
URL:https://akce.nolog.cz/event/plusko-pofely-17
GEO:49.2027317;16.6110428
LOCATION:Tři Ocásci - třída Kpt. Jaroše 1935/18\, Brno
STATUS:CONFIRMED
CATEGORIES:Brno,English-friendly,komunita,lgbtq+,Pofel,queer,trans
X-ALT-DESC;FMTTYPE=text/html:<p>Plusko pofely, každotýdenní queer setkání. 
	Budujeme revoluci zespoda - proto se přesouváme do Třech ocásků!! přijďte 
	taky podpořit nejlepší podnik v Brně, vemte kámošstvo a přidejte se k fele
	ní a kvíření 😋💅 těšíme se! xoxo</p>
BEGIN:VALARM
ACTION:DISPLAY
DESCRIPTION:Plusko+ pofely
TRIGGER:-PT1H
END:VALARM
END:VEVENT
END:VCALENDAR
