BEGIN:VCALENDAR
VERSION:2.0
CALSCALE:GREGORIAN
PRODID:adamgibbons/ics
METHOD:PUBLISH
X-PUBLISHED-TTL:PT1H
BEGIN:VEVENT
UID:1025@akce.nolog.cz
SUMMARY:Segedín pro PJF
DTSTAMP:20260420T162643Z
DTSTART:20260422T160000Z
DESCRIPTION:Zablokuj si bříško domácim houskovým knedlíkem so segedínom a p
	odpor tvůj\noblíbený kolektiv. Doraz v stredu s kámošstvem na AC posdilet 
	dojmy a príbehy z\nblokády a dobre sa pri tom napapaj. Bude bramboračka\, 
	bude segedín\, možno buchta\na malý program. Stay tuned.
URL:https://akce.nolog.cz/event/segedin-pro-pjf
GEO:50.1038024;14.4435507
LOCATION:Autonomní centrum 254 - Argentinská 18\, Praha 7 Holešovice
STATUS:CONFIRMED
CATEGORIES:jídlo,Praha
X-ALT-DESC;FMTTYPE=text/html:<p>Zablokuj si bříško domácim houskovým knedlí
	kem so segedínom a podpor tvůj oblíbený kolektiv. Doraz v stredu s kámošst
	vem na AC posdilet dojmy a príbehy z blokády a dobre sa pri tom napapaj. B
	ude bramboračka, bude segedín, možno buchta a malý program. Stay tuned.</p
	>
BEGIN:VALARM
ACTION:DISPLAY
DESCRIPTION:Segedín pro PJF
TRIGGER:-PT1H
END:VALARM
END:VEVENT
END:VCALENDAR
