BEGIN:VCALENDAR
VERSION:2.0
CALSCALE:GREGORIAN
PRODID:adamgibbons/ics
METHOD:PUBLISH
X-PUBLISHED-TTL:PT1H
BEGIN:VEVENT
UID:1026@akce.nolog.cz
SUMMARY:Slavnostní křest nerůstové knihy Vrchol je dno 🐌
DTSTAMP:20260420T211323Z
DTSTART:20260507T163000Z
DTEND:20260507T215500Z
DESCRIPTION:Co dělat\, když otěže našeho systému mají v rukou mocí a bohats
	tvím posedlí\nfanatici a suverénně ho ženou proti zdi? Taky už toho máš do
	st? Změna je nerůst.\n🐌\n\n✨ Přijď na slavnostní křest knihy Vrchol je dno
	: Politika pro vyčerpané lidi a\nplanetu ✨\n\nTa navazuje na velký úspěch 
	knihy Čas : dorůst\, která byla prvním kolektivním\npočinem tuzemského ner
	ůstového hnutí. Nová kniha prohlubuje českou a slovenskou\ndiskuzi o nerůs
	tu a posouvá ji blíž praxi a akci\, než kdy byla. Na oslavu jejího\nvydání
	 srdečně zve tebe\, tvé blízké a všechny\, kdo hledají alternativu\nsoučas
	nému směřování naší civilizace\, nerůstový kolektiv při organizaci NaZemi.
	\n\nᯓ★ Cesta do spravedlivého a bezpečného prostoru z nestabilních ruin so
	učasného\nsystému musí být samá slavnost\, jinak se z temných časů úpadku 
	úplně otrávíme.\n★ᯓ\n\n📅 Kdy: čtvrtek 7. května od 18:30\n📍 Kde: Café V le
	se\, Krymská 12\, Praha\n💸 Vstupné dobrovolné\n\nCo tě čeká?\n\n🗯️ Rozprava
	: Jak spolu prosazovat politiku pro vyčerpané lidi a planetu?\nDiskutují I
	rena Ferčíková Konečná\, Kateřina Smejkalová\, Jakub Ort\, Tadeáš\nŽďárský
	 a vy\nModeruje Simona Babčáková\n\n🫗 Slavnostní křest knihy\nZahraje Tomá
	š Niesner\nUmělecky zaintervenují Univerzity za Klima\n\n💃 Post-večírek\nk
	 tanci a poslechu hrají DJs Ki\, Juice & Cauliflower\n\nNa akci si můžeš k
	nihu pořídit spolu s dalšími upcyklovanými benefičními a\numěleckými předm
	ěty či si rozebrat nerůstové imaginativní a radikální nálepky. A\no všechn
	o si budeš moct zasoutěžit v koblize štěstí 🍩\n\n⋆˙⟡ Tak přijď pofelit a v
	em partu\, těšíme se! ⋆⭒˚.⋆
URL:https://akce.nolog.cz/event/slavnostni-krest-nerustove-knihy-vrchol-je-
	dno
LOCATION:Café V lese - Krymská 12\, Praha
STATUS:CONFIRMED
CATEGORIES:benefice,diskuze,hudba,Koncert,křest,nerůst,Praha
X-ALT-DESC;FMTTYPE=text/html:<p>Co dělat, když otěže našeho systému mají v 
	rukou mocí a bohatstvím posedlí fanatici a suverénně ho ženou proti zdi? T
	aky už toho máš dost? <strong>Změna je nerůst</strong>. 🐌</p><p>✨ Přijď na
	 slavnostní křest knihy Vrchol je dno: Politika pro vyčerpané lidi a plane
	tu ✨</p><p>Ta navazuje na velký úspěch knihy Čas : dorůst, která byla prvn
	ím kolektivním počinem tuzemského nerůstového hnutí. Nová kniha prohlubuje
	 českou a slovenskou diskuzi o nerůstu a posouvá ji blíž praxi a akci, než
	 kdy byla. Na oslavu jejího vydání srdečně zve tebe, tvé blízké a všechny,
	 kdo hledají alternativu současnému směřování naší civilizace, nerůstový k
	olektiv při organizaci NaZemi.</p><p>ᯓ★ Cesta do spravedlivého a bezpečnéh
	o prostoru z nestabilních ruin současného systému musí být samá slavnost, 
	jinak se z temných časů úpadku úplně otrávíme. ★ᯓ</p><p>📅 Kdy: čtvrtek 7. 
	května od 18:30<br>📍 Kde: Café V lese, Krymská 12, Praha<br>💸 Vstupné dobr
	ovolné</p><p>Co tě čeká?</p><p>🗯️ Rozprava: Jak spolu prosazovat politiku p
	ro vyčerpané lidi a planetu?<br>Diskutují&nbsp;<strong>Irena Ferčíková Kon
	ečná, Kateřina Smejkalová, Jakub Ort, Tadeáš Žďárský a vy</strong><br>Mode
	ruje <strong>Simona Babčáková</strong></p><p>🫗 Slavnostní křest knihy<br>Z
	ahraje <strong>Tomáš Niesner</strong><br>Umělecky zaintervenují<strong> Un
	iverzity za Klima</strong></p><p>💃 Post-večírek<br>k tanci a poslechu hraj
	í DJs <strong>Ki, Juice &amp; Cauliflower</strong></p><p>Na akci si můžeš 
	knihu pořídit spolu s dalšími upcyklovanými benefičními a uměleckými předm
	ěty či si rozebrat nerůstové imaginativní a radikální nálepky. A o všechno
	 si budeš moct zasoutěžit v <strong>koblize štěstí</strong> 🍩</p><p>⋆˙⟡ Ta
	k přijď pofelit a vem partu, těšíme se! ⋆⭒˚.⋆</p>
BEGIN:VALARM
ACTION:DISPLAY
DESCRIPTION:Slavnostní křest nerůstové knihy Vrchol je dno 🐌
TRIGGER:-PT1H
END:VALARM
END:VEVENT
END:VCALENDAR
