BEGIN:VCALENDAR
VERSION:2.0
CALSCALE:GREGORIAN
PRODID:adamgibbons/ics
METHOD:PUBLISH
X-PUBLISHED-TTL:PT1H
BEGIN:VEVENT
UID:1023@akce.nolog.cz
SUMMARY:Je Česko na prodej? Debata o oligarchizaci státu
DTSTAMP:20260420T025636Z
DTSTART:20260504T160000Z
DTEND:20260504T180000Z
URL:https://akce.nolog.cz/event/je-cesko-na-prodej-debata-o-oligarchizaci-s
	tatu
LOCATION:Kafe & Hrnky - Nerudova 244/25\, Praha 1
STATUS:CONFIRMED
CATEGORIES:debata,Praha
END:VEVENT
END:VCALENDAR
