BEGIN:VCALENDAR
VERSION:2.0
CALSCALE:GREGORIAN
PRODID:adamgibbons/ics
METHOD:PUBLISH
X-PUBLISHED-TTL:PT1H
BEGIN:VEVENT
UID:1033@akce.nolog.cz
SUMMARY:Na bylinky: městská divočina léčí
DTSTAMP:20260422T184950Z
DTSTART:20260514T120000Z
DTEND:20260514T180000Z
URL:https://akce.nolog.cz/event/na-bylinky-mestska-divocina-leci
LOCATION:sraz: zastávka MHD Šárka v Brně-Kohoutovicích - GPS: 49.191298\, 1
	6.545931
STATUS:CONFIRMED
CATEGORIES:
END:VEVENT
END:VCALENDAR
