BEGIN:VCALENDAR
VERSION:2.0
CALSCALE:GREGORIAN
PRODID:adamgibbons/ics
METHOD:PUBLISH
X-PUBLISHED-TTL:PT1H
BEGIN:VEVENT
UID:1014@akce.nolog.cz
SUMMARY:Antifašistický akční den
DTSTAMP:20260425T032013Z
DTSTART:20260425T120000Z
URL:https://akce.nolog.cz/event/antifasisticky-akcni-den
GEO:50.1038024;14.4435507
LOCATION:Autonomní centrum 254 - Argentinská 18\, Praha 7 Holešovice
STATUS:CONFIRMED
CATEGORIES:čtení,antifašismus,diskuze,malba,kresba,Praha,jídlo
END:VEVENT
BEGIN:VEVENT
UID:1024@akce.nolog.cz
SUMMARY:Brunch!
DTSTAMP:20260425T032013Z
DTSTART:20260426T100000Z
DTEND:20260426T130000Z
URL:https://akce.nolog.cz/event/brunch-2
GEO:50.1038024;14.4435507
LOCATION:Autonomní centrum 254 - Argentinská 18\, Praha 7 Holešovice
STATUS:CONFIRMED
CATEGORIES:jídlo,Praha
END:VEVENT
BEGIN:VEVENT
UID:1035@akce.nolog.cz
SUMMARY:Benefiční večeře pro Solidrones vol. 9
DTSTAMP:20260425T032013Z
DTSTART:20260429T160000Z
DTEND:20260429T190000Z
URL:https://akce.nolog.cz/event/beneficni-vecere-pro-solidrones-vol-9
GEO:50.1038024;14.4435507
LOCATION:Autonomní centrum 254 - Argentinská 18\, Praha 7 Holešovice
STATUS:CONFIRMED
CATEGORIES:solidrones,Praha,benefice,jídlo,blešák
END:VEVENT
BEGIN:VEVENT
UID:892@akce.nolog.cz
SUMMARY:Ryan Cassata (USA) + Vic Who + Smažená pikantní škeble v AC254
DTSTAMP:20260425T032013Z
DTSTART:20260512T150000Z
URL:https://akce.nolog.cz/event/ryan-cassata-usa-vic-who-smazena-pikantni-s
	keble-v-ac254
GEO:50.1038024;14.4435507
LOCATION:Autonomní centrum 254 - Argentinská 18\, Praha 7 Holešovice
STATUS:CONFIRMED
CATEGORIES:Praha,hudba,Koncert
END:VEVENT
BEGIN:VEVENT
UID:1008@akce.nolog.cz
SUMMARY:Pigeon Pit (USA) + Ruen (PT) + Dungbeetle (BE) + Blaho v AC254
DTSTAMP:20260425T032013Z
DTSTART:20260526T150000Z
URL:https://akce.nolog.cz/event/pigeon-pit-usa-ruen-pt-dungbeetle-be-blaho-
	v-ac254
GEO:50.1038024;14.4435507
LOCATION:Autonomní centrum 254 - Argentinská 18\, Praha 7 Holešovice
STATUS:CONFIRMED
CATEGORIES:hudba,Praha
END:VEVENT
END:VCALENDAR
