BEGIN:VCALENDAR
VERSION:2.0
CALSCALE:GREGORIAN
PRODID:adamgibbons/ics
METHOD:PUBLISH
X-PUBLISHED-TTL:PT1H
BEGIN:VEVENT
UID:1022@akce.nolog.cz
SUMMARY:Dekospot
DTSTAMP:20260424T154327Z
DTSTART:20260426T140000Z
DTEND:20260426T195000Z
URL:https://akce.nolog.cz/event/dekospot-22
GEO:50.0651134;14.4257885
LOCATION:Trhlina - Jaromírova 9\, Praha 2
STATUS:CONFIRMED
CATEGORIES:dekonstrukce,Infoshop,Praha,queer,Trhlina
END:VEVENT
END:VCALENDAR
