BEGIN:VCALENDAR
VERSION:2.0
CALSCALE:GREGORIAN
PRODID:adamgibbons/ics
METHOD:PUBLISH
X-PUBLISHED-TTL:PT1H
BEGIN:VEVENT
UID:1030@akce.nolog.cz
SUMMARY:Green Resistance Pop III.
DTSTAMP:20260422T162926Z
DTSTART:20260501T080000Z
DTEND:20260501T170000Z
URL:https://akce.nolog.cz/event/green-resistance-pop-iii
LOCATION:Skautský institut v Olomouci - Dolní náměstí 109/29\, 779 00 Olomo
	uc\, Česko
STATUS:CONFIRMED
CATEGORIES:aktivizace,hudba,Olomouc,promítání,propojování se,workshop
END:VEVENT
END:VCALENDAR
