BEGIN:VCALENDAR
VERSION:2.0
CALSCALE:GREGORIAN
PRODID:adamgibbons/ics
METHOD:PUBLISH
X-PUBLISHED-TTL:PT1H
BEGIN:VEVENT
UID:962@akce.nolog.cz
SUMMARY:DIY Fest 2026
DTSTAMP:20260422T000558Z
DTSTART:20260502T130000Z
URL:https://akce.nolog.cz/event/diy-fest-2026
GEO:49.4120552;14.6547598
LOCATION:Cesta - Novákova 387/1\, Tábor
STATUS:CONFIRMED
CATEGORIES:divadlo,festival,hudba,jídlo,Tábor
END:VEVENT
END:VCALENDAR
