BEGIN:VCALENDAR
VERSION:2.0
CALSCALE:GREGORIAN
PRODID:adamgibbons/ics
METHOD:PUBLISH
X-PUBLISHED-TTL:PT1H
BEGIN:VEVENT
UID:1001@akce.nolog.cz
SUMMARY:Promítání dokumentu "Brucia Ancora Dentro"
DTSTAMP:20260421T222057Z
DTSTART:20260501T153000Z
DTEND:20260501T170000Z
URL:https://akce.nolog.cz/event/promitani-dokumentu-brucia-ancora-dentro
GEO:50.0656142;14.4077169
LOCATION:Eternia - Nádražní 3\, Praha 5
STATUS:CONFIRMED
CATEGORIES:antifašismus,dokument,festival,Praha,promítání
END:VEVENT
END:VCALENDAR
