BEGIN:VCALENDAR
VERSION:2.0
CALSCALE:GREGORIAN
PRODID:adamgibbons/ics
METHOD:PUBLISH
X-PUBLISHED-TTL:PT1H
BEGIN:VEVENT
UID:983@akce.nolog.cz
SUMMARY:Dny antikapitalismu 2026
DTSTAMP:20260421T182433Z
DTSTART:20260529T160000Z
DTEND:20260531T180000Z
URL:https://akce.nolog.cz/event/dny-antikapitalismu-2026
GEO:50.0878501;14.460969
LOCATION:Žižkostel - Nám. Barikád 1\, Praha 3 - Žižkov
STATUS:CONFIRMED
CATEGORIES:workshop,DAK,diskuze,marxismus,Praha,socsol
END:VEVENT
BEGIN:VEVENT
UID:982@akce.nolog.cz
SUMMARY:Jedeme na Marxismus v Londýně
DTSTAMP:20260421T182433Z
DTSTART:20260702T063000Z
DTEND:20260707T213000Z
URL:https://akce.nolog.cz/event/jedeme-na-marxismus-v-londyne
LOCATION:Londýn - Londnýn
STATUS:CONFIRMED
CATEGORIES:Londýn,marxismus,přednášky,socsol,debaty
END:VEVENT
END:VCALENDAR
